BEGIN:VCALENDAR
VERSION:2.0
PRODID:-//Paroisses de Locminé et St Jean Brevelay - ECPv5.12.3//NONSGML v1.0//EN
CALSCALE:GREGORIAN
METHOD:PUBLISH
X-WR-CALNAME:Paroisses de Locminé et St Jean Brevelay
X-ORIGINAL-URL:https://paroisses-locmine-saintjeanbrevelay.fr
X-WR-CALDESC:évènements pour Paroisses de Locminé et St Jean Brevelay
BEGIN:VTIMEZONE
TZID:Europe/Paris
BEGIN:DAYLIGHT
TZOFFSETFROM:+0100
TZOFFSETTO:+0200
TZNAME:CEST
DTSTART:20210328T010000
END:DAYLIGHT
BEGIN:STANDARD
TZOFFSETFROM:+0200
TZOFFSETTO:+0100
TZNAME:CET
DTSTART:20211031T010000
END:STANDARD
END:VTIMEZONE
BEGIN:VEVENT
DTSTART;TZID=Europe/Paris:20211102T100000
DTEND;TZID=Europe/Paris:20211102T110000
DTSTAMP:20260422T015555
CREATED:20210915T145759Z
LAST-MODIFIED:20210915T145759Z
UID:23259-1635847200-1635850800@paroisses-locmine-saintjeanbrevelay.fr
SUMMARY:Messe à Locminé
DESCRIPTION:
URL:https://paroisses-locmine-saintjeanbrevelay.fr/evenement/messe-a-locmine-13/
CATEGORIES:A la une
END:VEVENT
END:VCALENDAR