BEGIN:VCALENDAR
VERSION:2.0
PRODID:-//Paroisses de Locminé et St Jean Brevelay - ECPv5.12.3//NONSGML v1.0//EN
CALSCALE:GREGORIAN
METHOD:PUBLISH
X-WR-CALNAME:Paroisses de Locminé et St Jean Brevelay
X-ORIGINAL-URL:https://paroisses-locmine-saintjeanbrevelay.fr
X-WR-CALDESC:évènements pour Paroisses de Locminé et St Jean Brevelay
BEGIN:VTIMEZONE
TZID:Europe/Paris
BEGIN:DAYLIGHT
TZOFFSETFROM:+0100
TZOFFSETTO:+0200
TZNAME:CEST
DTSTART:20210328T010000
END:DAYLIGHT
BEGIN:STANDARD
TZOFFSETFROM:+0200
TZOFFSETTO:+0100
TZNAME:CET
DTSTART:20211031T010000
END:STANDARD
END:VTIMEZONE
BEGIN:VEVENT
DTSTART;TZID=Europe/Paris:20210515T183000
DTEND;TZID=Europe/Paris:20210515T193000
DTSTAMP:20260422T165941
CREATED:20210303T091502Z
LAST-MODIFIED:20210303T091502Z
UID:22878-1621103400-1621107000@paroisses-locmine-saintjeanbrevelay.fr
SUMMARY:Plumelin : messe à 18h30
DESCRIPTION:
URL:https://paroisses-locmine-saintjeanbrevelay.fr/evenement/plumelin-messe-a-18h30-2/
CATEGORIES:A la une
END:VEVENT
END:VCALENDAR