BEGIN:VCALENDAR
VERSION:2.0
PRODID:-//Paroisses de Locminé et St Jean Brevelay - ECPv5.12.3//NONSGML v1.0//EN
CALSCALE:GREGORIAN
METHOD:PUBLISH
X-WR-CALNAME:Paroisses de Locminé et St Jean Brevelay
X-ORIGINAL-URL:https://paroisses-locmine-saintjeanbrevelay.fr
X-WR-CALDESC:évènements pour Paroisses de Locminé et St Jean Brevelay
BEGIN:VTIMEZONE
TZID:Europe/Paris
BEGIN:DAYLIGHT
TZOFFSETFROM:+0100
TZOFFSETTO:+0200
TZNAME:CEST
DTSTART:20210328T010000
END:DAYLIGHT
BEGIN:STANDARD
TZOFFSETFROM:+0200
TZOFFSETTO:+0100
TZNAME:CET
DTSTART:20211031T010000
END:STANDARD
END:VTIMEZONE
BEGIN:VEVENT
DTSTART;TZID=Europe/Paris:20210418T110000
DTEND;TZID=Europe/Paris:20210418T120000
DTSTAMP:20260420T022954
CREATED:20210303T085951Z
LAST-MODIFIED:20210303T085951Z
UID:22852-1618743600-1618747200@paroisses-locmine-saintjeanbrevelay.fr
SUMMARY:Locminé : messe à 11h00
DESCRIPTION:
URL:https://paroisses-locmine-saintjeanbrevelay.fr/evenement/locmine-messe-a-11h00-7/
CATEGORIES:A la une
END:VEVENT
BEGIN:VEVENT
DTSTART;TZID=Europe/Paris:20210418T093000
DTEND;TZID=Europe/Paris:20210418T103000
DTSTAMP:20260420T022954
CREATED:20210303T085849Z
LAST-MODIFIED:20210303T085849Z
UID:22850-1618738200-1618741800@paroisses-locmine-saintjeanbrevelay.fr
SUMMARY:Plumelin : messe à 9h30
DESCRIPTION:
URL:https://paroisses-locmine-saintjeanbrevelay.fr/evenement/plumelin-messe-a-9h30/
CATEGORIES:A la une
END:VEVENT
END:VCALENDAR