BEGIN:VCALENDAR
VERSION:2.0
PRODID:-//Paroisses de Locminé et St Jean Brevelay - ECPv5.12.3//NONSGML v1.0//EN
CALSCALE:GREGORIAN
METHOD:PUBLISH
X-WR-CALNAME:Paroisses de Locminé et St Jean Brevelay
X-ORIGINAL-URL:https://paroisses-locmine-saintjeanbrevelay.fr
X-WR-CALDESC:évènements pour Paroisses de Locminé et St Jean Brevelay
BEGIN:VTIMEZONE
TZID:Europe/Paris
BEGIN:DAYLIGHT
TZOFFSETFROM:+0100
TZOFFSETTO:+0200
TZNAME:CEST
DTSTART:20190331T010000
END:DAYLIGHT
BEGIN:STANDARD
TZOFFSETFROM:+0200
TZOFFSETTO:+0100
TZNAME:CET
DTSTART:20191027T010000
END:STANDARD
END:VTIMEZONE
BEGIN:VEVENT
DTSTART;TZID=Europe/Paris:20190301T170000
DTEND;TZID=Europe/Paris:20190301T180000
DTSTAMP:20260424T121252
CREATED:20190213T090221Z
LAST-MODIFIED:20190213T090221Z
UID:4191-1551459600-1551463200@paroisses-locmine-saintjeanbrevelay.fr
SUMMARY:KT public Plumelin
DESCRIPTION:
URL:https://paroisses-locmine-saintjeanbrevelay.fr/evenement/kt-public-plumelin-24/
CATEGORIES:A la une
ATTACH;FMTTYPE=image/jpeg:https://paroisses-locmine-saintjeanbrevelay.fr/wp-content/uploads/2018/11/groupe-denfants.jpg
END:VEVENT
BEGIN:VEVENT
DTSTART;TZID=Europe/Paris:20190301T190000
DTEND;TZID=Europe/Paris:20190301T210000
DTSTAMP:20260424T121252
CREATED:20180719T092806Z
LAST-MODIFIED:20190213T101855Z
UID:3711-1551466800-1551474000@paroisses-locmine-saintjeanbrevelay.fr
SUMMARY:Locminé : réunion GAP salle paroissiale
DESCRIPTION:
URL:https://paroisses-locmine-saintjeanbrevelay.fr/evenement/locmine-reunion-gap-salle-paroissiale-4/
LOCATION:Locminé salle paroissiale
CATEGORIES:A la une
ATTACH;FMTTYPE=image/png:https://paroisses-locmine-saintjeanbrevelay.fr/wp-content/uploads/2017/12/équipe.png
END:VEVENT
END:VCALENDAR